BEGIN:VCALENDAR
VERSION:2.0
PRODID:-//pretix//Caught_Tickets//
BEGIN:VTIMEZONE
TZID:Europe/Amsterdam
BEGIN:STANDARD
DTSTART:20001029T040000
RRULE:FREQ=YEARLY;BYDAY=-1SU;BYMONTH=10
TZNAME:CET
TZOFFSETFROM:+0200
TZOFFSETTO:+0100
END:STANDARD
BEGIN:DAYLIGHT
DTSTART:20000326T030000
RRULE:FREQ=YEARLY;BYDAY=-1SU;BYMONTH=3
TZNAME:CEST
TZOFFSETFROM:+0100
TZOFFSETTO:+0200
END:DAYLIGHT
END:VTIMEZONE
BEGIN:VEVENT
UID:pretix-weerterwinterparadijs-wvds-0@tickets.caught.nu
DTSTART;TZID=Europe/Amsterdam:20251220T193000
DTEND;TZID=Europe/Amsterdam:20251220T203000
DESCRIPTION:Tickets: https://tickets.caught.nu/weerterwinterparadijs/wvds/\
 nOrganisator: Weerter Winterparadijs
DTSTAMP:20260421T163323Z
LOCATION:Nieuwe Markt\, 6001 EL Weert
SUMMARY:Winternacht van de Swaen
END:VEVENT
END:VCALENDAR
